BEGIN:VCALENDAR
VERSION:2.0
PRODID:-//Shepherd of the Hills - ECPv6.15.18//NONSGML v1.0//EN
CALSCALE:GREGORIAN
METHOD:PUBLISH
X-WR-CALNAME:Shepherd of the Hills
X-ORIGINAL-URL:https://sothaz.com
X-WR-CALDESC:Events for Shepherd of the Hills
REFRESH-INTERVAL;VALUE=DURATION:PT1H
X-Robots-Tag:noindex
X-PUBLISHED-TTL:PT1H
BEGIN:VTIMEZONE
TZID:America/Phoenix
BEGIN:STANDARD
TZOFFSETFROM:-0700
TZOFFSETTO:-0700
TZNAME:MST
DTSTART:20250101T000000
END:STANDARD
END:VTIMEZONE
BEGIN:VEVENT
DTSTART;TZID=America/Phoenix:20260419T093000
DTEND;TZID=America/Phoenix:20260419T103000
DTSTAMP:20260419T050456
CREATED:20260313T003327Z
LAST-MODIFIED:20260413T231905Z
UID:19816-1776591000-1776594600@sothaz.com
SUMMARY:Worship Service: The Closeness of Jesus
DESCRIPTION:In Person and Online Church Service in Fountain Hills.\nLivestream available on our Website\, Facebook\, and YouTube.\nMESSAGE – The Closeness of Jesus\nSCRIPTURES\nZechariah 9:9-12\nRomans 7:15-25a\nMatt 11:25-30
URL:https://sothaz.com/event/worship-service-the-closeness-of-jesus
LOCATION:Sanctuary\, 16150 East El Lago Blvd\, Fountain Hills\, AZ\, 85268\, United States
CATEGORIES:Worship Services
ATTACH;FMTTYPE=image/png:https://sothaz.com/wp-content/uploads/2026/03/Sermon-Title-Slide-04-19-26.png
ORGANIZER;CN="Pastor Jeff Teeples":MAILTO:jeff@sothaz.com
END:VEVENT
BEGIN:VEVENT
DTSTART;TZID=America/Phoenix:20260419T104500
DTEND;TZID=America/Phoenix:20260419T113000
DTSTAMP:20260419T050456
CREATED:20260330T220453Z
LAST-MODIFIED:20260413T232000Z
UID:20043-1776595500-1776598200@sothaz.com
SUMMARY:Christ Connect Class: The Closeness of Jesus
DESCRIPTION:Series: Gentle and Lowly \nChristians know what Jesus Christ has done—but who is he? What is his deepest heart for his people\, weary and faltering on their journey toward heaven? Jesus said he is “gentle and lowly in heart.” This series reflects on these words\, opening up a neglected yet central truth about who Jesus is for sinners and sufferers today.
URL:https://sothaz.com/event/christ-connect-class-the-closeness-of-jesus
LOCATION:Fellowship Hall\, 16150 East El Lago Blvd\, Fountain Hills\, AZ\, 85268\, United States
CATEGORIES:Adult Education,Lent/Easter
ATTACH;FMTTYPE=image/png:https://sothaz.com/wp-content/uploads/2026/03/CCC-04-19.png
ORGANIZER;CN="Pastor Jeff Teeples":MAILTO:jeff@sothaz.com
END:VEVENT
END:VCALENDAR