BEGIN:VCALENDAR
VERSION:2.0
PRODID:-//Shepherd of the Hills - ECPv6.15.18//NONSGML v1.0//EN
CALSCALE:GREGORIAN
METHOD:PUBLISH
X-WR-CALNAME:Shepherd of the Hills
X-ORIGINAL-URL:https://sothaz.com
X-WR-CALDESC:Events for Shepherd of the Hills
REFRESH-INTERVAL;VALUE=DURATION:PT1H
X-Robots-Tag:noindex
X-PUBLISHED-TTL:PT1H
BEGIN:VTIMEZONE
TZID:America/Phoenix
BEGIN:STANDARD
TZOFFSETFROM:-0700
TZOFFSETTO:-0700
TZNAME:MST
DTSTART:20250101T000000
END:STANDARD
END:VTIMEZONE
BEGIN:VEVENT
DTSTART;TZID=America/Phoenix:20260325T121500
DTEND;TZID=America/Phoenix:20260325T124500
DTSTAMP:20260422T013632
CREATED:20260117T200536Z
LAST-MODIFIED:20260316T181206Z
UID:19385-1774440900-1774442700@sothaz.com
SUMMARY:Lenten Service: Soft Hearts\, Hard Feet
DESCRIPTION:In Person and Online Church Service in Fountain Hills.\nLivestream available on our Website\, Facebook\, and YouTube.\nMESSAGE – Soft Hearts\, Hard Feet\nScripture: Acts 1:8
URL:https://sothaz.com/event/lenten-service-soft-hearts-hard-feet
LOCATION:Sanctuary\, 16150 East El Lago Blvd\, Fountain Hills\, AZ\, 85268\, United States
CATEGORIES:Lent/Easter
ATTACH;FMTTYPE=image/png:https://sothaz.com/wp-content/uploads/2026/01/Lenten-Service-03-25-26.png
ORGANIZER;CN="Pastor Jeff Teeples":MAILTO:jeff@sothaz.com
END:VEVENT
BEGIN:VEVENT
DTSTART;TZID=America/Phoenix:20260325T124500
DTEND;TZID=America/Phoenix:20260325T133000
DTSTAMP:20260422T013632
CREATED:20260117T200336Z
LAST-MODIFIED:20260117T200336Z
UID:19394-1774442700-1774445400@sothaz.com
SUMMARY:Lenten Lunch
DESCRIPTION:
URL:https://sothaz.com/event/lenten-lunch-5
LOCATION:Fellowship Hall\, 16150 East El Lago Blvd\, Fountain Hills\, AZ\, 85268\, United States
CATEGORIES:Lent/Easter
ORGANIZER;CN="Pastor Jeff Teeples":MAILTO:jeff@sothaz.com
END:VEVENT
END:VCALENDAR