BEGIN:VCALENDAR
VERSION:2.0
PRODID:-//Shepherd of the Hills - ECPv6.15.18//NONSGML v1.0//EN
CALSCALE:GREGORIAN
METHOD:PUBLISH
X-ORIGINAL-URL:https://sothaz.com
X-WR-CALDESC:Events for Shepherd of the Hills
REFRESH-INTERVAL;VALUE=DURATION:PT1H
X-Robots-Tag:noindex
X-PUBLISHED-TTL:PT1H
BEGIN:VTIMEZONE
TZID:America/Phoenix
BEGIN:STANDARD
TZOFFSETFROM:-0700
TZOFFSETTO:-0700
TZNAME:MST
DTSTART:20240101T000000
END:STANDARD
END:VTIMEZONE
BEGIN:VEVENT
DTSTART;TZID=America/Phoenix:20250706T093000
DTEND;TZID=America/Phoenix:20250706T103000
DTSTAMP:20260425T043958
CREATED:20250630T182020Z
LAST-MODIFIED:20250701T212704Z
UID:17825-1751794200-1751797800@sothaz.com
SUMMARY:Worship Service: The Miracle of Gratitude
DESCRIPTION:In Person and Online Church Service in Fountain Hills.\nLivestream available on our Website\, Facebook\, and YouTube.\nMESSAGE – The Miracle of Gratitude\nSCRIPTURES\nPsalm 66:1-7\nGalatians 6:1-18\nLuke 10:1-20
URL:https://sothaz.com/event/worship-service-when-the-kingdom-comes-near
LOCATION:Sanctuary\, 16150 East El Lago Blvd\, Fountain Hills\, AZ\, 85268\, United States
CATEGORIES:Worship Services
ATTACH;FMTTYPE=image/png:https://sothaz.com/wp-content/uploads/2025/06/Sermon-Title-Slide-07-06-25-min-1.png
END:VEVENT
BEGIN:VEVENT
DTSTART;TZID=America/Phoenix:20250713T093000
DTEND;TZID=America/Phoenix:20250713T103000
DTSTAMP:20260425T043958
CREATED:20250630T194813Z
LAST-MODIFIED:20250709T165004Z
UID:17832-1752399000-1752402600@sothaz.com
SUMMARY:Worship Service: Compassion over Protocol
DESCRIPTION:In Person and Online Church Service in Fountain Hills.\nLivestream available on our Website\, Facebook\, and YouTube.\nMESSAGE – Compassion over Protocol\nSCRIPTURES\nPsalm 41\nColossians 1:1-14\nLuke 10:25-37
URL:https://sothaz.com/event/worship-service-compassion-over-protocol
LOCATION:Sanctuary\, 16150 East El Lago Blvd\, Fountain Hills\, AZ\, 85268\, United States
CATEGORIES:Worship Services
ATTACH;FMTTYPE=image/png:https://sothaz.com/wp-content/uploads/2025/06/Sermon-Title-Slide-07-13-25-min.png
ORGANIZER;CN="Pastor Jeff Teeples":MAILTO:jeff@sothaz.com
END:VEVENT
BEGIN:VEVENT
DTSTART;TZID=America/Phoenix:20250720T093000
DTEND;TZID=America/Phoenix:20250720T103000
DTSTAMP:20260425T043958
CREATED:20250630T194947Z
LAST-MODIFIED:20250714T165812Z
UID:17834-1753003800-1753007400@sothaz.com
SUMMARY:Worship Service: Being over Doing
DESCRIPTION:In Person and Online Church Service in Fountain Hills.\nLivestream available on our Website\, Facebook\, and YouTube.\nMESSAGE – Being over Doing\nSCRIPTURES\nPsalm 27:7-14\nColossians 1:21-29\nLuke 10:38-42
URL:https://sothaz.com/event/worship-service-being-over-doing
LOCATION:Sanctuary\, 16150 East El Lago Blvd\, Fountain Hills\, AZ\, 85268\, United States
CATEGORIES:Worship Services
ATTACH;FMTTYPE=image/png:https://sothaz.com/wp-content/uploads/2025/06/Sermon-Title-Slide-07-20-25-min.png
ORGANIZER;CN="Pastor Jeff Teeples":MAILTO:jeff@sothaz.com
END:VEVENT
BEGIN:VEVENT
DTSTART;TZID=America/Phoenix:20250727T093000
DTEND;TZID=America/Phoenix:20250727T103000
DTSTAMP:20260425T043958
CREATED:20250630T195121Z
LAST-MODIFIED:20250718T175909Z
UID:17836-1753608600-1753612200@sothaz.com
SUMMARY:Worship Service: Participating in Jesus Kingdom
DESCRIPTION:In Person and Online Church Service in Fountain Hills.\nLivestream available on our Website\, Facebook\, and YouTube.\nMESSAGE – Participating in Jesus Kingdom\nSCRIPTURES\nPsalm 138\nColossians 2:6-15\nLuke 11:1-13
URL:https://sothaz.com/event/worship-service-participating-in-jesus-kingdom
LOCATION:Sanctuary\, 16150 East El Lago Blvd\, Fountain Hills\, AZ\, 85268\, United States
CATEGORIES:Worship Services
ATTACH;FMTTYPE=image/png:https://sothaz.com/wp-content/uploads/2025/06/Sermon-Title-Slide-07-27-25-min.png
ORGANIZER;CN="Pastor Jeff Teeples":MAILTO:jeff@sothaz.com
END:VEVENT
END:VCALENDAR