BEGIN:VCALENDAR
VERSION:2.0
PRODID:-//Shepherd of the Hills - ECPv6.15.18//NONSGML v1.0//EN
CALSCALE:GREGORIAN
METHOD:PUBLISH
X-ORIGINAL-URL:https://sothaz.com
X-WR-CALDESC:Events for Shepherd of the Hills
REFRESH-INTERVAL;VALUE=DURATION:PT1H
X-Robots-Tag:noindex
X-PUBLISHED-TTL:PT1H
BEGIN:VTIMEZONE
TZID:America/Phoenix
BEGIN:STANDARD
TZOFFSETFROM:-0700
TZOFFSETTO:-0700
TZNAME:MST
DTSTART:20240101T000000
END:STANDARD
END:VTIMEZONE
BEGIN:VEVENT
DTSTART;TZID=America/Phoenix:20250907T093000
DTEND;TZID=America/Phoenix:20250907T103000
DTSTAMP:20260423T101630
CREATED:20250824T220611Z
LAST-MODIFIED:20250903T172536Z
UID:18091-1757237400-1757241000@sothaz.com
SUMMARY:Worship Service: The Good Shepherd
DESCRIPTION:In Person and Online Church Service in Fountain Hills.\nLivestream available on our Website\, Facebook\, and YouTube.\nMESSAGE – The Good Shepherd\nSCRIPTURES\nEzekiel 34:11-16\nPsalm 23\nJohn 10:11-30
URL:https://sothaz.com/event/worship-service-the-good-shepherd
LOCATION:Sanctuary\, 16150 East El Lago Blvd\, Fountain Hills\, AZ\, 85268\, United States
CATEGORIES:Worship Services
ATTACH;FMTTYPE=image/png:https://sothaz.com/wp-content/uploads/2025/08/The-Good-Shepherd-min.png
ORGANIZER;CN="Pastor Jeff Teeples":MAILTO:jeff@sothaz.com
END:VEVENT
BEGIN:VEVENT
DTSTART;TZID=America/Phoenix:20250914T093000
DTEND;TZID=America/Phoenix:20250914T103000
DTSTAMP:20260423T101630
CREATED:20250824T220732Z
LAST-MODIFIED:20250907T210855Z
UID:18094-1757842200-1757845800@sothaz.com
SUMMARY:Worship Service: The Bread of Life
DESCRIPTION:In Person and Online Church Service in Fountain Hills.\nLivestream available on our Website\, Facebook\, and YouTube.\nMESSAGE – The Bread of Life\nSCRIPTURES\nDeuteronomy 8:1-10\nRevelation 7:9-17\nJohn 6:22-41
URL:https://sothaz.com/event/worship-service-the-bread-of-life
LOCATION:Sanctuary\, 16150 East El Lago Blvd\, Fountain Hills\, AZ\, 85268\, United States
CATEGORIES:Worship Services
ATTACH;FMTTYPE=image/png:https://sothaz.com/wp-content/uploads/2025/08/Sermon-Title-Slide-09-14-25-min.png
ORGANIZER;CN="Pastor Jeff Teeples":MAILTO:jeff@sothaz.com
END:VEVENT
BEGIN:VEVENT
DTSTART;TZID=America/Phoenix:20250921T093000
DTEND;TZID=America/Phoenix:20250921T103000
DTSTAMP:20260423T101630
CREATED:20250824T220854Z
LAST-MODIFIED:20250907T211648Z
UID:18096-1758447000-1758450600@sothaz.com
SUMMARY:Worship Service: The Vine and the Branches
DESCRIPTION:In Person and Online Church Service in Fountain Hills.\nLivestream available on our Website\, Facebook\, and YouTube.\nMESSAGE – The Vine and the Branches\nSCRIPTURES\nPsalm 42:1-11\n1 John 2:7-14\nJohn 15:1-11
URL:https://sothaz.com/event/worship-service-the-vine-and-the-branches
LOCATION:Sanctuary\, 16150 East El Lago Blvd\, Fountain Hills\, AZ\, 85268\, United States
CATEGORIES:Worship Services
ATTACH;FMTTYPE=image/png:https://sothaz.com/wp-content/uploads/2025/08/Sermon-Title-Slide-09-21-25-min.png
ORGANIZER;CN="Pastor Jeff Teeples":MAILTO:jeff@sothaz.com
END:VEVENT
BEGIN:VEVENT
DTSTART;TZID=America/Phoenix:20250928T093000
DTEND;TZID=America/Phoenix:20250928T103000
DTSTAMP:20260423T101630
CREATED:20250824T221004Z
LAST-MODIFIED:20250923T172030Z
UID:18098-1759051800-1759055400@sothaz.com
SUMMARY:Worship Service: The Way\, the Truth and the Life
DESCRIPTION:In Person and Online Church Service in Fountain Hills.\nLivestream available on our Website\, Facebook\, and YouTube.\nMESSAGE – The Way\, the Truth and the Life\nSCRIPTURES\nJeremiah 6:16\n2 John 1-6\nJohn 14:1-14
URL:https://sothaz.com/event/worship-service-the-way-the-truth-and-the-life
LOCATION:Sanctuary\, 16150 East El Lago Blvd\, Fountain Hills\, AZ\, 85268\, United States
CATEGORIES:Worship Services
ATTACH;FMTTYPE=image/png:https://sothaz.com/wp-content/uploads/2025/08/Sermon-Title-Slide-09-28-25-min.png
ORGANIZER;CN="Pastor Jeff Teeples":MAILTO:jeff@sothaz.com
END:VEVENT
END:VCALENDAR