BEGIN:VCALENDAR
VERSION:2.0
PRODID:-//Shepherd of the Hills - ECPv6.15.18//NONSGML v1.0//EN
CALSCALE:GREGORIAN
METHOD:PUBLISH
X-WR-CALNAME:Shepherd of the Hills
X-ORIGINAL-URL:https://sothaz.com
X-WR-CALDESC:Events for Shepherd of the Hills
REFRESH-INTERVAL;VALUE=DURATION:PT1H
X-Robots-Tag:noindex
X-PUBLISHED-TTL:PT1H
BEGIN:VTIMEZONE
TZID:America/Phoenix
BEGIN:STANDARD
TZOFFSETFROM:-0700
TZOFFSETTO:-0700
TZNAME:MST
DTSTART:20240101T000000
END:STANDARD
END:VTIMEZONE
BEGIN:VEVENT
DTSTART;TZID=America/Phoenix:20251207T093000
DTEND;TZID=America/Phoenix:20251207T103000
DTSTAMP:20260423T060747
CREATED:20251029T183822Z
LAST-MODIFIED:20251124T165527Z
UID:18453-1765099800-1765103400@sothaz.com
SUMMARY:Worship Service: Peace Unboxed
DESCRIPTION:In Person and Online Church Service in Fountain Hills.\nLivestream available on our Website\, Facebook\, and YouTube.\nMESSAGE – Peace Unboxed\n\nSCRIPTURES\nIsaiah 11:1-10\nPsalm 85\nRomans 15:4-13\nMatthew 3:1-12
URL:https://sothaz.com/event/worship-service-unbox-peace
LOCATION:Sanctuary\, 16150 East El Lago Blvd\, Fountain Hills\, AZ\, 85268\, United States
CATEGORIES:Advent/Christmas,Worship Services
ATTACH;FMTTYPE=image/png:https://sothaz.com/wp-content/uploads/2025/10/Sermon-Title-Slide-12-07-25-min.png
ORGANIZER;CN="Pastor Jeff Teeples":MAILTO:jeff@sothaz.com
END:VEVENT
BEGIN:VEVENT
DTSTART;TZID=America/Phoenix:20251214T093000
DTEND;TZID=America/Phoenix:20251214T103000
DTSTAMP:20260423T060747
CREATED:20250923T215401Z
LAST-MODIFIED:20251124T170454Z
UID:18243-1765704600-1765708200@sothaz.com
SUMMARY:Advent Joy: Songs of Promise and Light
DESCRIPTION:Advent Joy: Songs of Promise and Light \nA special Advent music service filled with joy and expectancy. Our choir\, along with cello\, violin\, handbells\, organ\, and congregational singing\, will lead us in music that celebrates Emmanuel—God with us—as we wait with hope and joyful anticipation for Christ’s coming. It’s a beautiful morning of worship you won’t want to miss.
URL:https://sothaz.com/event/christmas-cantata
LOCATION:Sanctuary\, 16150 East El Lago Blvd\, Fountain Hills\, AZ\, 85268\, United States
CATEGORIES:Advent/Christmas,Worship Services
ATTACH;FMTTYPE=image/png:https://sothaz.com/wp-content/uploads/2025/09/Advent-Joy-min.png
ORGANIZER;CN="Matt Hoehne":MAILTO:matt@sothaz.com
END:VEVENT
BEGIN:VEVENT
DTSTART;TZID=America/Phoenix:20251214T093000
DTEND;TZID=America/Phoenix:20251214T103000
DTSTAMP:20260423T060747
CREATED:20251029T184019Z
LAST-MODIFIED:20251124T165723Z
UID:18455-1765704600-1765708200@sothaz.com
SUMMARY:Worship Service: Joy Unboxed
DESCRIPTION:In Person and Online Church Service in Fountain Hills.\nLivestream available on our Website\, Facebook\, and YouTube.\nMESSAGE – Joy Unboxed\n\nSCRIPTURES\nIsaiah 35:1-10\nPsalm 30:1-5\nLuke 1:39-46a
URL:https://sothaz.com/event/worship-service-unbox-joy
LOCATION:Sanctuary\, 16150 East El Lago Blvd\, Fountain Hills\, AZ\, 85268\, United States
CATEGORIES:Advent/Christmas,Worship Services
ATTACH;FMTTYPE=image/png:https://sothaz.com/wp-content/uploads/2025/10/Sermon-Title-Slide-12-14-25-min.png
ORGANIZER;CN="Pastor Jeff Teeples":MAILTO:jeff@sothaz.com
END:VEVENT
BEGIN:VEVENT
DTSTART;TZID=America/Phoenix:20251221T093000
DTEND;TZID=America/Phoenix:20251221T103000
DTSTAMP:20260423T060747
CREATED:20251029T184219Z
LAST-MODIFIED:20251124T165921Z
UID:18457-1766309400-1766313000@sothaz.com
SUMMARY:Worship Service: Love Unboxed
DESCRIPTION:In Person and Online Church Service in Fountain Hills.\nLivestream available on our Website\, Facebook\, and YouTube.\nMESSAGE – Love Unboxed\n\nSCRIPTURES\nIsaiah 7:10-17\nPsalm 89:1-8\nRomans 1:1-7\nMatthew 1:18-25
URL:https://sothaz.com/event/worship-service-unbox-love
LOCATION:Sanctuary\, 16150 East El Lago Blvd\, Fountain Hills\, AZ\, 85268\, United States
CATEGORIES:Advent/Christmas,Worship Services
ATTACH;FMTTYPE=image/png:https://sothaz.com/wp-content/uploads/2025/10/Sermon-Title-Slide-12-21-25-min.png
ORGANIZER;CN="Pastor Jeff Teeples":MAILTO:jeff@sothaz.com
END:VEVENT
BEGIN:VEVENT
DTSTART;TZID=America/Phoenix:20251224T150000
DTEND;TZID=America/Phoenix:20251224T160000
DTSTAMP:20260423T060747
CREATED:20250923T215711Z
LAST-MODIFIED:20251215T212343Z
UID:18245-1766588400-1766592000@sothaz.com
SUMMARY:Christmas Eve Service: Our Approachable Savior
DESCRIPTION:Worship Service: Our Approachable Savior \nIn Person and Online Church Service in Fountain Hills.\nLivestream available on our Website\, Facebook\, and YouTube.\nMESSAGE – Our Approachable Savior\n\nSCRIPTURES\nIsaiah 9:2-7\nPsalm 96\nTitus 2:11-14\nLuke 2:1-21
URL:https://sothaz.com/event/christmas-eve-service
LOCATION:Sanctuary\, 16150 East El Lago Blvd\, Fountain Hills\, AZ\, 85268\, United States
CATEGORIES:Advent/Christmas,Worship Services
ATTACH;FMTTYPE=image/png:https://sothaz.com/wp-content/uploads/2025/09/Sermon-Title-Slide-12-24-25-min.png
ORGANIZER;CN="Pastor Jeff Teeples":MAILTO:jeff@sothaz.com
END:VEVENT
BEGIN:VEVENT
DTSTART;TZID=America/Phoenix:20251224T170000
DTEND;TZID=America/Phoenix:20251224T180000
DTSTAMP:20260423T060747
CREATED:20250923T215755Z
LAST-MODIFIED:20251215T212224Z
UID:18247-1766595600-1766599200@sothaz.com
SUMMARY:Christmas Eve Service: Our Approachable Savior
DESCRIPTION:Worship Service: Our Approachable Savior \nIn Person and Online Church Service in Fountain Hills.\nLivestream available on our Website\, Facebook\, and YouTube.\nMESSAGE – Our Approachable Savior\n\nSCRIPTURES\nIsaiah 9:2-7\nPsalm 96\nTitus 2:11-14\nLuke 2:1-21
URL:https://sothaz.com/event/christmas-eve-service-2
LOCATION:Sanctuary\, 16150 East El Lago Blvd\, Fountain Hills\, AZ\, 85268\, United States
CATEGORIES:Advent/Christmas,Worship Services
ATTACH;FMTTYPE=image/png:https://sothaz.com/wp-content/uploads/2025/09/Sermon-Title-Slide-12-24-25-min.png
ORGANIZER;CN="Pastor Jeff Teeples":MAILTO:jeff@sothaz.com
END:VEVENT
BEGIN:VEVENT
DTSTART;TZID=America/Phoenix:20251225T100000
DTEND;TZID=America/Phoenix:20251225T110000
DTSTAMP:20260423T060747
CREATED:20250923T215842Z
LAST-MODIFIED:20251223T201355Z
UID:18249-1766656800-1766660400@sothaz.com
SUMMARY:Christmas Day Service: The Incarnation Bouquet
DESCRIPTION:In Person and Online Church Service in Fountain Hills.\nLivestream available on our Website\, Facebook\, and YouTube.\nMESSAGE – The Incarnation Bouquet\n\nSCRIPTURES\nIsaiah 52:7-10\nPsalm 98 (Sung)\nHebrews 1:1-6\nJohn 1:1-14
URL:https://sothaz.com/event/christmas-day-service
LOCATION:Sanctuary\, 16150 East El Lago Blvd\, Fountain Hills\, AZ\, 85268\, United States
CATEGORIES:Advent/Christmas,Worship Services
ATTACH;FMTTYPE=image/png:https://sothaz.com/wp-content/uploads/2025/09/Sermon-Title-Slide-12-25-25-min-1.png
ORGANIZER;CN="Pastor Jeff Teeples":MAILTO:jeff@sothaz.com
END:VEVENT
BEGIN:VEVENT
DTSTART;TZID=America/Phoenix:20251228T093000
DTEND;TZID=America/Phoenix:20251228T103000
DTSTAMP:20260423T060747
CREATED:20251029T185727Z
LAST-MODIFIED:20251222T211008Z
UID:18464-1766914200-1766917800@sothaz.com
SUMMARY:Worship Service: Innocent
DESCRIPTION:In Person and Online Church Service in Fountain Hills.\nLivestream available on our Website\, Facebook\, and YouTube.\nMESSAGE – Innocent\n\nSCRIPTURES\nPsalm 111\nGalatians 4:4-7\nMatthew 2:13-23
URL:https://sothaz.com/event/worship-service-innocent
LOCATION:Sanctuary\, 16150 East El Lago Blvd\, Fountain Hills\, AZ\, 85268\, United States
CATEGORIES:Worship Services
ATTACH;FMTTYPE=image/png:https://sothaz.com/wp-content/uploads/2025/10/Sermon-Title-Slide-12-28-25-min.png
ORGANIZER;CN="Pastor Jeff Teeples":MAILTO:jeff@sothaz.com
END:VEVENT
END:VCALENDAR