BEGIN:VCALENDAR
VERSION:2.0
PRODID:-//Shepherd of the Hills - ECPv6.15.18//NONSGML v1.0//EN
CALSCALE:GREGORIAN
METHOD:PUBLISH
X-WR-CALNAME:Shepherd of the Hills
X-ORIGINAL-URL:https://sothaz.com
X-WR-CALDESC:Events for Shepherd of the Hills
REFRESH-INTERVAL;VALUE=DURATION:PT1H
X-Robots-Tag:noindex
X-PUBLISHED-TTL:PT1H
BEGIN:VTIMEZONE
TZID:America/Phoenix
BEGIN:STANDARD
TZOFFSETFROM:-0700
TZOFFSETTO:-0700
TZNAME:MST
DTSTART:20250101T000000
END:STANDARD
END:VTIMEZONE
BEGIN:VEVENT
DTSTART;TZID=America/Phoenix:20260104T093000
DTEND;TZID=America/Phoenix:20260104T103000
DTSTAMP:20260423T044230
CREATED:20251216T222904Z
LAST-MODIFIED:20260101T171211Z
UID:18873-1767519000-1767522600@sothaz.com
SUMMARY:Worship Service: Father’s House
DESCRIPTION:In Person and Online Church Service in Fountain Hills.\nLivestream available on our Website\, Facebook\, and YouTube.\nMESSAGE – Father’s House\n\nSCRIPTURES\n1 Kings 3:4-15\nPsalm 119:97-104\nEphesians 1:3-18\nLuke 2:40-52
URL:https://sothaz.com/event/worship-service-2
LOCATION:Sanctuary\, 16150 East El Lago Blvd\, Fountain Hills\, AZ\, 85268\, United States
CATEGORIES:Worship Services
ATTACH;FMTTYPE=image/png:https://sothaz.com/wp-content/uploads/2025/12/Sermon-Title-Slide-01-04-26-min-1.png
ORGANIZER;CN="Pastor Jeff Teeples":MAILTO:jeff@sothaz.com
END:VEVENT
BEGIN:VEVENT
DTSTART;TZID=America/Phoenix:20260111T093000
DTEND;TZID=America/Phoenix:20260111T103000
DTSTAMP:20260423T044230
CREATED:20251216T222626Z
LAST-MODIFIED:20260106T183237Z
UID:18871-1768123800-1768127400@sothaz.com
SUMMARY:Worship Service: Walking Wet
DESCRIPTION:In Person and Online Church Service in Fountain Hills.\nLivestream available on our Website\, Facebook\, and YouTube.\nMESSAGE – Walking Wet\n\nSCRIPTURES\nJoshua 3:1-3\, 7-8\, 13-17\nRomans 6:1-11\nMatthew 3:13-17
URL:https://sothaz.com/event/worship-service-walking-wet
LOCATION:Sanctuary\, 16150 East El Lago Blvd\, Fountain Hills\, AZ\, 85268\, United States
CATEGORIES:Worship Services
ATTACH;FMTTYPE=image/png:https://sothaz.com/wp-content/uploads/2025/12/Sermon-Title-Slide-01-11-26-min.png
ORGANIZER;CN="Pastor Jeff Teeples":MAILTO:jeff@sothaz.com
END:VEVENT
BEGIN:VEVENT
DTSTART;TZID=America/Phoenix:20260118T093000
DTEND;TZID=America/Phoenix:20260118T103000
DTSTAMP:20260423T044230
CREATED:20260112T184407Z
LAST-MODIFIED:20260115T223335Z
UID:19262-1768728600-1768732200@sothaz.com
SUMMARY:Worship Service: We Are Christ Centered
DESCRIPTION:In Person and Online Church Service in Fountain Hills.\nLivestream available on our Website\, Facebook\, and YouTube.\nSERIES – The Heart of Our Church\n\nMESSAGE – We Are Christ Centered\n\nSCRIPTURES\nIsaiah 49:1-7\n1 Corinthians 3:6-11\nJohn 1:29-42
URL:https://sothaz.com/event/worship-service-we-are-christ-centered
LOCATION:Sanctuary\, 16150 East El Lago Blvd\, Fountain Hills\, AZ\, 85268\, United States
CATEGORIES:Worship Services
ATTACH;FMTTYPE=image/png:https://sothaz.com/wp-content/uploads/2026/01/Sermon-Title-Slide-01-18-26-min-2.png
ORGANIZER;CN="Pastor Jeff Teeples":MAILTO:jeff@sothaz.com
END:VEVENT
BEGIN:VEVENT
DTSTART;TZID=America/Phoenix:20260125T093000
DTEND;TZID=America/Phoenix:20260125T103000
DTSTAMP:20260423T044230
CREATED:20260112T213807Z
LAST-MODIFIED:20260117T180602Z
UID:19280-1769333400-1769337000@sothaz.com
SUMMARY:Worship Service: Life is Better Connected
DESCRIPTION:In Person and Online Church Service in Fountain Hills.\nLivestream available on our Website\, Facebook\, and YouTube.\nSERIES – The Heart of Our Church\n\nMESSAGE – Life is Better Connected\n\nSCRIPTURES\nIsaiah 9:1-4\n1 Corinthians 1:10-18\nMatthew 4:12-25
URL:https://sothaz.com/event/worship-service-life-is-better-connected
LOCATION:Sanctuary\, 16150 East El Lago Blvd\, Fountain Hills\, AZ\, 85268\, United States
CATEGORIES:Worship Services
ATTACH;FMTTYPE=image/png:https://sothaz.com/wp-content/uploads/2026/01/Sermon-Title-Slide-01-25-26.png
ORGANIZER;CN="Pastor Jeff Teeples":MAILTO:jeff@sothaz.com
END:VEVENT
END:VCALENDAR