BEGIN:VCALENDAR
VERSION:2.0
PRODID:-//Shepherd of the Hills - ECPv6.15.18//NONSGML v1.0//EN
CALSCALE:GREGORIAN
METHOD:PUBLISH
X-WR-CALNAME:Shepherd of the Hills
X-ORIGINAL-URL:https://sothaz.com
X-WR-CALDESC:Events for Shepherd of the Hills
REFRESH-INTERVAL;VALUE=DURATION:PT1H
X-Robots-Tag:noindex
X-PUBLISHED-TTL:PT1H
BEGIN:VTIMEZONE
TZID:America/Phoenix
BEGIN:STANDARD
TZOFFSETFROM:-0700
TZOFFSETTO:-0700
TZNAME:MST
DTSTART:20250101T000000
END:STANDARD
END:VTIMEZONE
BEGIN:VEVENT
DTSTART;TZID=America/Phoenix:20260201T093000
DTEND;TZID=America/Phoenix:20260201T103000
DTSTAMP:20260423T031842
CREATED:20260112T213919Z
LAST-MODIFIED:20260126T184653Z
UID:19279-1769938200-1769941800@sothaz.com
SUMMARY:Worship Service: We Grace It Up
DESCRIPTION:In Person and Online Church Service in Fountain Hills.\nLivestream available on our Website\, Facebook\, and YouTube.\nSERIES – The Heart of Our Church\n\nMESSAGE – We Grace It Up\n\nSCRIPTURES\nMicah 6:1-8\nRomans 5:1-5\nMatthew 5:1-12
URL:https://sothaz.com/event/worship-service-we-grace-it-up
LOCATION:Sanctuary\, 16150 East El Lago Blvd\, Fountain Hills\, AZ\, 85268\, United States
CATEGORIES:Worship Services
ATTACH;FMTTYPE=image/png:https://sothaz.com/wp-content/uploads/2026/01/Sermon-Title-Slide-02-01-26.png
ORGANIZER;CN="Pastor Jeff Teeples":MAILTO:jeff@sothaz.com
END:VEVENT
BEGIN:VEVENT
DTSTART;TZID=America/Phoenix:20260208T093000
DTEND;TZID=America/Phoenix:20260208T103000
DTSTAMP:20260423T031842
CREATED:20260112T214026Z
LAST-MODIFIED:20260202T193951Z
UID:19278-1770543000-1770546600@sothaz.com
SUMMARY:Worship Service: We Glorify God
DESCRIPTION:In Person and Online Church Service in Fountain Hills.\nLivestream available on our Website\, Facebook\, and YouTube.\nSERIES – The Heart of Our Church\n\nMESSAGE – We Glorify God\n\nSCRIPTURES\nPsalm 95:1-7\nColossians 3:12-17\nJohn 4:19-26
URL:https://sothaz.com/event/worship-service-we-glorify-god
LOCATION:Sanctuary\, 16150 East El Lago Blvd\, Fountain Hills\, AZ\, 85268\, United States
CATEGORIES:Worship Services
ATTACH;FMTTYPE=image/png:https://sothaz.com/wp-content/uploads/2026/01/Sermon-Title-Slide-02-08-26-1-1.png
ORGANIZER;CN="Pastor Jeff Teeples":MAILTO:jeff@sothaz.com
END:VEVENT
BEGIN:VEVENT
DTSTART;TZID=America/Phoenix:20260215T093000
DTEND;TZID=America/Phoenix:20260215T103000
DTSTAMP:20260423T031842
CREATED:20260117T174007Z
LAST-MODIFIED:20260212T173529Z
UID:19371-1771147800-1771151400@sothaz.com
SUMMARY:Worship Service: The Words in Red
DESCRIPTION:In Person and Online Church Service in Fountain Hills.\nLivestream available on our Website\, Facebook\, and YouTube.\nMESSAGE – The Words in Red\n\nSCRIPTURES\nIsaiah 55:6-13\nPsalm 119:97-105\nHebrews 4:12\nMatthew 5:13-20
URL:https://sothaz.com/event/worship-service-the-words-in-red
LOCATION:Sanctuary\, 16150 East El Lago Blvd\, Fountain Hills\, AZ\, 85268\, United States
CATEGORIES:Worship Services
ATTACH;FMTTYPE=image/png:https://sothaz.com/wp-content/uploads/2026/01/Sermon-Title-Slide-02-15-26-1.png
ORGANIZER;CN="Pastor Jeff Teeples":MAILTO:jeff@sothaz.com
END:VEVENT
BEGIN:VEVENT
DTSTART;TZID=America/Phoenix:20260218T130000
DTEND;TZID=America/Phoenix:20260218T140000
DTSTAMP:20260423T031842
CREATED:20251230T235620Z
LAST-MODIFIED:20260205T180858Z
UID:18973-1771419600-1771423200@sothaz.com
SUMMARY:Ash Wednesday Service: Come Follow Me
DESCRIPTION:In Person and Online Church Service in Fountain Hills.\nLivestream available on our Website\, Facebook\, and YouTube.\nMESSAGE – Come Follow Me\n\nSCRIPTURES\nIsaiah 58:1-12\nPsalm 51:1-17\nMatthew 6:1-6\, 16-21
URL:https://sothaz.com/event/ash-wednesday-service
LOCATION:Sanctuary\, 16150 East El Lago Blvd\, Fountain Hills\, AZ\, 85268\, United States
CATEGORIES:Lent/Easter,Worship Services
ATTACH;FMTTYPE=image/png:https://sothaz.com/wp-content/uploads/2025/12/2026-Ash-Wednesday.png
ORGANIZER;CN="Pastor Jeff Teeples":MAILTO:jeff@sothaz.com
END:VEVENT
BEGIN:VEVENT
DTSTART;TZID=America/Phoenix:20260222T093000
DTEND;TZID=America/Phoenix:20260222T103000
DTSTAMP:20260423T031842
CREATED:20260117T194224Z
LAST-MODIFIED:20260219T231836Z
UID:19376-1771752600-1771756200@sothaz.com
SUMMARY:50th Anniversary Celebration Service
DESCRIPTION:50th Anniversary Celebration \nWe can’t wait to celebrate 50 years of God’s goodness with you at Shepherd of the Hills! \nHere’s what’s scheduled for the day: \n9:30 am – Anniversary Worship Service\nA joyful and music-filled celebration featuring: \n* A powerful Call to Worship with handbells\, brass\, percussion\, and organ\n* Opening hymn: “Praise to the Lord\, the Almighty” with choir\, brass\, percussion\, and organ\n* Reflections from several former SOTH pastors\n* Congregational singing of “The Goodness of God”\n* Closing hymn: “Lift High the Cross” with choir\, brass\, percussion\, and organ \n11:00 am – Pergola Dedication\nJoin us as we dedicate the new pergola and give thanks for God’s continued blessings. \n11:30 am – Celebration Meal & Lawn Activities\nEnjoy a meal together\, lawn games\, fellowship\, and plenty of time to reconnect and celebrate. \nBe sure to take photos throughout the day! \nHelpful Reminders\nIf you are able\, please park in the lower lot and use the elevator so our guests can utilize the upper lot.\nTake pictures during the event and share them by texting them to 480 836 8627. \nLet’s come ready to worship\, celebrate\, and give thanks for 50 years of God’s goodness — and the many blessings still to come. \nLivestream available on our Website\, Facebook\, and YouTube. \nMESSAGE – 50 Years of God’s Goodness\nSCRIPTURES\nGenesis 1:1-31\nPsalm 92:1-2\nJohn 8:31-36
URL:https://sothaz.com/event/50th-anniversary-celebration-service
LOCATION:Sanctuary\, 16150 East El Lago Blvd\, Fountain Hills\, AZ\, 85268\, United States
CATEGORIES:Worship Services
ATTACH;FMTTYPE=image/png:https://sothaz.com/wp-content/uploads/2026/01/Sermon-Title-Slide-02-22-26-scaled.png
ORGANIZER;CN="Pastor Jeff Teeples":MAILTO:jeff@sothaz.com
END:VEVENT
END:VCALENDAR