BEGIN:VCALENDAR
VERSION:2.0
PRODID:-//Shepherd of the Hills - ECPv6.15.18//NONSGML v1.0//EN
CALSCALE:GREGORIAN
METHOD:PUBLISH
X-ORIGINAL-URL:https://sothaz.com
X-WR-CALDESC:Events for Shepherd of the Hills
REFRESH-INTERVAL;VALUE=DURATION:PT1H
X-Robots-Tag:noindex
X-PUBLISHED-TTL:PT1H
BEGIN:VTIMEZONE
TZID:America/Phoenix
BEGIN:STANDARD
TZOFFSETFROM:-0700
TZOFFSETTO:-0700
TZNAME:MST
DTSTART:20240101T000000
END:STANDARD
END:VTIMEZONE
BEGIN:VEVENT
DTSTART;TZID=America/Phoenix:20251012T093000
DTEND;TZID=America/Phoenix:20251012T103000
DTSTAMP:20260423T101754
CREATED:20250824T221752Z
LAST-MODIFIED:20251007T170049Z
UID:18105-1760261400-1760265000@sothaz.com
SUMMARY:Worship Service: The Light of the World
DESCRIPTION:In Person and Online Church Service in Fountain Hills.\nLivestream available on our Website\, Facebook\, and YouTube.\nMESSAGE – The Light of the World\nSCRIPTURES\nPsalm 27:1-4\n1 John 1:5-10\nJohn 8:12-30
URL:https://sothaz.com/event/worship-service-the-light-of-the-world
LOCATION:Sanctuary\, 16150 East El Lago Blvd\, Fountain Hills\, AZ\, 85268\, United States
CATEGORIES:Worship Services
ATTACH;FMTTYPE=image/png:https://sothaz.com/wp-content/uploads/2025/08/Sermon-Title-Slide-10-12-25-min.png
ORGANIZER;CN="Pastor Jeff Teeples":MAILTO:jeff@sothaz.com
END:VEVENT
END:VCALENDAR