BEGIN:VCALENDAR
VERSION:2.0
PRODID:-//Shepherd of the Hills - ECPv6.15.18//NONSGML v1.0//EN
CALSCALE:GREGORIAN
METHOD:PUBLISH
X-WR-CALNAME:Shepherd of the Hills
X-ORIGINAL-URL:https://sothaz.com
X-WR-CALDESC:Events for Shepherd of the Hills
REFRESH-INTERVAL;VALUE=DURATION:PT1H
X-Robots-Tag:noindex
X-PUBLISHED-TTL:PT1H
BEGIN:VTIMEZONE
TZID:America/Phoenix
BEGIN:STANDARD
TZOFFSETFROM:-0700
TZOFFSETTO:-0700
TZNAME:MST
DTSTART:20240101T000000
END:STANDARD
END:VTIMEZONE
BEGIN:VEVENT
DTSTART;TZID=America/Phoenix:20251225T100000
DTEND;TZID=America/Phoenix:20251225T110000
DTSTAMP:20260425T044054
CREATED:20250923T215842Z
LAST-MODIFIED:20251223T201355Z
UID:18249-1766656800-1766660400@sothaz.com
SUMMARY:Christmas Day Service: The Incarnation Bouquet
DESCRIPTION:In Person and Online Church Service in Fountain Hills.\nLivestream available on our Website\, Facebook\, and YouTube.\nMESSAGE – The Incarnation Bouquet\n\nSCRIPTURES\nIsaiah 52:7-10\nPsalm 98 (Sung)\nHebrews 1:1-6\nJohn 1:1-14
URL:https://sothaz.com/event/christmas-day-service
LOCATION:Sanctuary\, 16150 East El Lago Blvd\, Fountain Hills\, AZ\, 85268\, United States
CATEGORIES:Advent/Christmas,Worship Services
ATTACH;FMTTYPE=image/png:https://sothaz.com/wp-content/uploads/2025/09/Sermon-Title-Slide-12-25-25-min-1.png
ORGANIZER;CN="Pastor Jeff Teeples":MAILTO:jeff@sothaz.com
END:VEVENT
END:VCALENDAR