BEGIN:VCALENDAR
VERSION:2.0
PRODID:-//Shepherd of the Hills - ECPv6.15.18//NONSGML v1.0//EN
CALSCALE:GREGORIAN
METHOD:PUBLISH
X-ORIGINAL-URL:https://sothaz.com
X-WR-CALDESC:Events for Shepherd of the Hills
REFRESH-INTERVAL;VALUE=DURATION:PT1H
X-Robots-Tag:noindex
X-PUBLISHED-TTL:PT1H
BEGIN:VTIMEZONE
TZID:America/Phoenix
BEGIN:STANDARD
TZOFFSETFROM:-0700
TZOFFSETTO:-0700
TZNAME:MST
DTSTART:20250101T000000
END:STANDARD
END:VTIMEZONE
BEGIN:VEVENT
DTSTART;TZID=America/Phoenix:20260222T093000
DTEND;TZID=America/Phoenix:20260222T103000
DTSTAMP:20260425T073555
CREATED:20260117T194224Z
LAST-MODIFIED:20260219T231836Z
UID:19376-1771752600-1771756200@sothaz.com
SUMMARY:50th Anniversary Celebration Service
DESCRIPTION:50th Anniversary Celebration \nWe can’t wait to celebrate 50 years of God’s goodness with you at Shepherd of the Hills! \nHere’s what’s scheduled for the day: \n9:30 am – Anniversary Worship Service\nA joyful and music-filled celebration featuring: \n* A powerful Call to Worship with handbells\, brass\, percussion\, and organ\n* Opening hymn: “Praise to the Lord\, the Almighty” with choir\, brass\, percussion\, and organ\n* Reflections from several former SOTH pastors\n* Congregational singing of “The Goodness of God”\n* Closing hymn: “Lift High the Cross” with choir\, brass\, percussion\, and organ \n11:00 am – Pergola Dedication\nJoin us as we dedicate the new pergola and give thanks for God’s continued blessings. \n11:30 am – Celebration Meal & Lawn Activities\nEnjoy a meal together\, lawn games\, fellowship\, and plenty of time to reconnect and celebrate. \nBe sure to take photos throughout the day! \nHelpful Reminders\nIf you are able\, please park in the lower lot and use the elevator so our guests can utilize the upper lot.\nTake pictures during the event and share them by texting them to 480 836 8627. \nLet’s come ready to worship\, celebrate\, and give thanks for 50 years of God’s goodness — and the many blessings still to come. \nLivestream available on our Website\, Facebook\, and YouTube. \nMESSAGE – 50 Years of God’s Goodness\nSCRIPTURES\nGenesis 1:1-31\nPsalm 92:1-2\nJohn 8:31-36
URL:https://sothaz.com/event/50th-anniversary-celebration-service
LOCATION:Sanctuary\, 16150 East El Lago Blvd\, Fountain Hills\, AZ\, 85268\, United States
CATEGORIES:Worship Services
ATTACH;FMTTYPE=image/png:https://sothaz.com/wp-content/uploads/2026/01/Sermon-Title-Slide-02-22-26-scaled.png
ORGANIZER;CN="Pastor Jeff Teeples":MAILTO:jeff@sothaz.com
END:VEVENT
END:VCALENDAR