BEGIN:VCALENDAR
VERSION:2.0
PRODID:-//Shepherd of the Hills - ECPv6.15.18//NONSGML v1.0//EN
CALSCALE:GREGORIAN
METHOD:PUBLISH
X-WR-CALNAME:Shepherd of the Hills
X-ORIGINAL-URL:https://sothaz.com
X-WR-CALDESC:Events for Shepherd of the Hills
REFRESH-INTERVAL;VALUE=DURATION:PT1H
X-Robots-Tag:noindex
X-PUBLISHED-TTL:PT1H
BEGIN:VTIMEZONE
TZID:America/Phoenix
BEGIN:STANDARD
TZOFFSETFROM:-0700
TZOFFSETTO:-0700
TZNAME:MST
DTSTART:20250101T000000
END:STANDARD
END:VTIMEZONE
BEGIN:VEVENT
DTSTART;TZID=America/Phoenix:20260709T130000
DTEND;TZID=America/Phoenix:20260709T150000
DTSTAMP:20260423T025604
CREATED:20251119T215705Z
LAST-MODIFIED:20251119T215705Z
UID:18563-1783602000-1783609200@sothaz.com
SUMMARY:LiFT: Bingo Event
DESCRIPTION:
URL:https://sothaz.com/event/lift-bingo-event
LOCATION:Fellowship Hall\, 16150 East El Lago Blvd\, Fountain Hills\, AZ\, 85268\, United States
END:VEVENT
BEGIN:VEVENT
DTSTART;TZID=America/Phoenix:20260705T104500
DTEND;TZID=America/Phoenix:20260705T113000
DTSTAMP:20260423T025604
CREATED:20260317T222053Z
LAST-MODIFIED:20260317T222053Z
UID:19928-1783248300-1783251000@sothaz.com
SUMMARY:No Christ Connect Class: Midsummer Break
DESCRIPTION:
URL:https://sothaz.com/event/no-christ-connect-class-midsummer-break
LOCATION:AZ
CATEGORIES:Adult Education
END:VEVENT
BEGIN:VEVENT
DTSTART;TZID=America/Phoenix:20260705T093000
DTEND;TZID=America/Phoenix:20260705T103000
DTSTAMP:20260423T025604
CREATED:20260317T221952Z
LAST-MODIFIED:20260317T221952Z
UID:19926-1783243800-1783247400@sothaz.com
SUMMARY:Worship Service: Our Endowed Unalienable  Rights
DESCRIPTION:In Person and Online Church Service in Fountain Hills.\nLivestream available on our Website\, Facebook\, and YouTube.\nMESSAGE – Our Endowed Unalienable  Rights\n\nSCRIPTURES\nJeremiah 29:4-14\nRomans 13:1-10\nMatthew 6:9-13
URL:https://sothaz.com/event/worship-service-our-endowed-unalienable-rights
LOCATION:Sanctuary\, 16150 East El Lago Blvd\, Fountain Hills\, AZ\, 85268\, United States
CATEGORIES:Worship Services
ORGANIZER;CN="Pastor Jeff Teeples":MAILTO:jeff@sothaz.com
END:VEVENT
BEGIN:VEVENT
DTSTART;VALUE=DATE:20260704
DTEND;VALUE=DATE:20260705
DTSTAMP:20260423T025604
CREATED:20260317T222203Z
LAST-MODIFIED:20260317T222203Z
UID:19930-1783123200-1783209599@sothaz.com
SUMMARY:Semiquincentennial: 250th Celebration of America
DESCRIPTION:250th anniversary of the signing of the Declaration of Independence
URL:https://sothaz.com/event/semiquincentennial-250th-celebration-of-america
LOCATION:AZ
CATEGORIES:Other
END:VEVENT
BEGIN:VEVENT
DTSTART;TZID=America/Phoenix:20260630T090000
DTEND;TZID=America/Phoenix:20260630T093000
DTSTAMP:20260423T025604
CREATED:20260330T203527Z
LAST-MODIFIED:20260330T203527Z
UID:20023-1782810000-1782811800@sothaz.com
SUMMARY:Let the Word Speak: Weekly Prayer
DESCRIPTION:Join Pastor Jeff each Tuesday at 9:00 am for 30 minutes of quiet prayer\, hearing the word\, and allowing God to speak to us. This weekly prayer will be a practice of the prayer movements we learned in the Lectio course. We will meet in the Shepherd’s Prayer Room.
URL:https://sothaz.com/event/let-the-word-speak-weekly-prayer-36
LOCATION:Shepherd’s Prayer Room\, 16150 E. El Lago Blvd\, Fountain Hills\, AZ\, 85268\, United States
CATEGORIES:Other
ATTACH;FMTTYPE=image/png:https://sothaz.com/wp-content/uploads/2025/10/Weekly-Prayer-min.png
ORGANIZER;CN="Pastor Jeff Teeples":MAILTO:jeff@sothaz.com
END:VEVENT
BEGIN:VEVENT
DTSTART;TZID=America/Phoenix:20260628T104500
DTEND;TZID=America/Phoenix:20260628T113000
DTSTAMP:20260423T025604
CREATED:20260420T193519Z
LAST-MODIFIED:20260420T193519Z
UID:20151-1782643500-1782646200@sothaz.com
SUMMARY:Christ Connect Class: Jesus Our Lord and Friend
DESCRIPTION:Series: The Jesus You Want to Know \nChristians know what Jesus Christ has done—but who is he? What is his deepest heart for his people\, weary and faltering on their journey toward heaven? Jesus said he is “gentle and lowly in heart.” This series reflects on these words\, opening up a neglected yet central truth about who Jesus is for sinners and sufferers today. \nApril 19 – Chapters 1 & 2\nApril 26 – Chapters 3-5\nMay 3 – Chapters 6 & 7\nMay 10 – Chapters 8 & 9\nMay 17 – Chapters 10-12\nMay 24 – Chapter 13\nMay 31 – Chapter 14\nJune 7 – Chapter 15 & 16\nJune 14 – Chapters 17 & 18\nJune 21 – Chapters 19-21\nJune 28 – Chapters 22 & 23
URL:https://sothaz.com/event/christ-connect-class-jesus-our-lord-and-friend
LOCATION:Fellowship Hall\, 16150 East El Lago Blvd\, Fountain Hills\, AZ\, 85268\, United States
CATEGORIES:Adult Education,Lent/Easter
ORGANIZER;CN="Pastor Jeff Teeples":MAILTO:jeff@sothaz.com
END:VEVENT
BEGIN:VEVENT
DTSTART;TZID=America/Phoenix:20260628T093000
DTEND;TZID=America/Phoenix:20260628T103000
DTSTAMP:20260423T025604
CREATED:20260317T194013Z
LAST-MODIFIED:20260317T194013Z
UID:19924-1782639000-1782642600@sothaz.com
SUMMARY:Worship Service: Jesus Our Lord and Friend
DESCRIPTION:In Person and Online Church Service in Fountain Hills.\nLivestream available on our Website\, Facebook\, and YouTube.\nMESSAGE – Jesus Our Lord and Friend\n\nSCRIPTURES\nEzekiel 2:8-3:3\nEphesians 2:4-10\nJohn 13:1-17
URL:https://sothaz.com/event/worship-service-jesus-our-lord-and-friend
LOCATION:Sanctuary\, 16150 East El Lago Blvd\, Fountain Hills\, AZ\, 85268\, United States
CATEGORIES:Worship Services
ORGANIZER;CN="Pastor Jeff Teeples":MAILTO:jeff@sothaz.com
END:VEVENT
BEGIN:VEVENT
DTSTART;TZID=America/Phoenix:20260623T090000
DTEND;TZID=America/Phoenix:20260623T093000
DTSTAMP:20260423T025604
CREATED:20260330T203435Z
LAST-MODIFIED:20260330T203435Z
UID:20024-1782205200-1782207000@sothaz.com
SUMMARY:Let the Word Speak: Weekly Prayer
DESCRIPTION:Join Pastor Jeff each Tuesday at 9:00 am for 30 minutes of quiet prayer\, hearing the word\, and allowing God to speak to us. This weekly prayer will be a practice of the prayer movements we learned in the Lectio course. We will meet in the Shepherd’s Prayer Room.
URL:https://sothaz.com/event/let-the-word-speak-weekly-prayer-35
LOCATION:Shepherd’s Prayer Room\, 16150 E. El Lago Blvd\, Fountain Hills\, AZ\, 85268\, United States
CATEGORIES:Other
ATTACH;FMTTYPE=image/png:https://sothaz.com/wp-content/uploads/2025/10/Weekly-Prayer-min.png
ORGANIZER;CN="Pastor Jeff Teeples":MAILTO:jeff@sothaz.com
END:VEVENT
BEGIN:VEVENT
DTSTART;TZID=America/Phoenix:20260621T104500
DTEND;TZID=America/Phoenix:20260621T113000
DTSTAMP:20260423T025604
CREATED:20260420T193423Z
LAST-MODIFIED:20260420T193423Z
UID:20159-1782038700-1782041400@sothaz.com
SUMMARY:Christ Connect Class: The Love of God
DESCRIPTION:Series: The Jesus You Want to Know \nChristians know what Jesus Christ has done—but who is he? What is his deepest heart for his people\, weary and faltering on their journey toward heaven? Jesus said he is “gentle and lowly in heart.” This series reflects on these words\, opening up a neglected yet central truth about who Jesus is for sinners and sufferers today. \nApril 19 – Chapters 1 & 2\nApril 26 – Chapters 3-5\nMay 3 – Chapters 6 & 7\nMay 10 – Chapters 8 & 9\nMay 17 – Chapters 10-12\nMay 24 – Chapter 13\nMay 31 – Chapter 14\nJune 7 – Chapter 15 & 16\nJune 14 – Chapters 17 & 18\nJune 21 – Chapters 19-21\nJune 28 – Chapters 22 & 23
URL:https://sothaz.com/event/christ-connect-class-the-love-of-god
LOCATION:Fellowship Hall\, 16150 East El Lago Blvd\, Fountain Hills\, AZ\, 85268\, United States
CATEGORIES:Adult Education,Lent/Easter
ORGANIZER;CN="Pastor Jeff Teeples":MAILTO:jeff@sothaz.com
END:VEVENT
BEGIN:VEVENT
DTSTART;TZID=America/Phoenix:20260621T093000
DTEND;TZID=America/Phoenix:20260621T103000
DTSTAMP:20260423T025604
CREATED:20260317T193855Z
LAST-MODIFIED:20260317T193855Z
UID:19922-1782034200-1782037800@sothaz.com
SUMMARY:Worship Service: The Love of God
DESCRIPTION:In Person and Online Church Service in Fountain Hills.\nLivestream available on our Website\, Facebook\, and YouTube.\nMESSAGE – The Love of God\n\nSCRIPTURES\nPsalm 32\nGalatians 2:20-21\nLuke 7:36-50
URL:https://sothaz.com/event/worship-service-the-love-of-god
LOCATION:Sanctuary\, 16150 East El Lago Blvd\, Fountain Hills\, AZ\, 85268\, United States
CATEGORIES:Worship Services
ORGANIZER;CN="Pastor Jeff Teeples":MAILTO:jeff@sothaz.com
END:VEVENT
BEGIN:VEVENT
DTSTART;TZID=America/Phoenix:20260616T090000
DTEND;TZID=America/Phoenix:20260616T093000
DTSTAMP:20260423T025604
CREATED:20260330T203302Z
LAST-MODIFIED:20260330T203302Z
UID:20025-1781600400-1781602200@sothaz.com
SUMMARY:Let the Word Speak: Weekly Prayer
DESCRIPTION:Join Pastor Jeff each Tuesday at 9:00 am for 30 minutes of quiet prayer\, hearing the word\, and allowing God to speak to us. This weekly prayer will be a practice of the prayer movements we learned in the Lectio course. We will meet in the Shepherd’s Prayer Room.
URL:https://sothaz.com/event/let-the-word-speak-weekly-prayer-34
LOCATION:Shepherd’s Prayer Room\, 16150 E. El Lago Blvd\, Fountain Hills\, AZ\, 85268\, United States
CATEGORIES:Other
ATTACH;FMTTYPE=image/png:https://sothaz.com/wp-content/uploads/2025/10/Weekly-Prayer-min.png
ORGANIZER;CN="Pastor Jeff Teeples":MAILTO:jeff@sothaz.com
END:VEVENT
BEGIN:VEVENT
DTSTART;TZID=America/Phoenix:20260614T104500
DTEND;TZID=America/Phoenix:20260614T113000
DTSTAMP:20260423T025604
CREATED:20260420T193255Z
LAST-MODIFIED:20260420T193255Z
UID:20160-1781433900-1781436600@sothaz.com
SUMMARY:Christ Connect Class: God's Heart
DESCRIPTION:Series: The Jesus You Want to Know \nChristians know what Jesus Christ has done—but who is he? What is his deepest heart for his people\, weary and faltering on their journey toward heaven? Jesus said he is “gentle and lowly in heart.” This series reflects on these words\, opening up a neglected yet central truth about who Jesus is for sinners and sufferers today. \nApril 19 – Chapters 1 & 2\nApril 26 – Chapters 3-5\nMay 3 – Chapters 6 & 7\nMay 10 – Chapters 8 & 9\nMay 17 – Chapters 10-12\nMay 24 – Chapter 13\nMay 31 – Chapter 14\nJune 7 – Chapter 15 & 16\nJune 14 – Chapters 17 & 18\nJune 21 – Chapters 19-21\nJune 28 – Chapters 22 & 23
URL:https://sothaz.com/event/christ-connect-class-gods-heart
LOCATION:Fellowship Hall\, 16150 East El Lago Blvd\, Fountain Hills\, AZ\, 85268\, United States
CATEGORIES:Adult Education,Lent/Easter
ORGANIZER;CN="Pastor Jeff Teeples":MAILTO:jeff@sothaz.com
END:VEVENT
BEGIN:VEVENT
DTSTART;TZID=America/Phoenix:20260614T093000
DTEND;TZID=America/Phoenix:20260614T103000
DTSTAMP:20260423T025604
CREATED:20260317T193742Z
LAST-MODIFIED:20260317T193742Z
UID:19920-1781429400-1781433000@sothaz.com
SUMMARY:Worship Service: God's Heart
DESCRIPTION:In Person and Online Church Service in Fountain Hills.\nLivestream available on our Website\, Facebook\, and YouTube.\nMESSAGE – God’s Heart\n\nSCRIPTURES\nPsalm 27:1-13\nJeremiah 31:20\nMark 10:17-27
URL:https://sothaz.com/event/worship-service-gods-heart
LOCATION:Sanctuary\, 16150 East El Lago Blvd\, Fountain Hills\, AZ\, 85268\, United States
CATEGORIES:Worship Services
ORGANIZER;CN="Pastor Jeff Teeples":MAILTO:jeff@sothaz.com
END:VEVENT
BEGIN:VEVENT
DTSTART;VALUE=DATE:20260614
DTEND;VALUE=DATE:20260615
DTSTAMP:20260423T025604
CREATED:20260317T193326Z
LAST-MODIFIED:20260317T193326Z
UID:19914-1781395200-1781481599@sothaz.com
SUMMARY:Father's Day
DESCRIPTION:
URL:https://sothaz.com/event/fathers-day
LOCATION:AZ
CATEGORIES:Other
END:VEVENT
BEGIN:VEVENT
DTSTART;TZID=America/Phoenix:20260609T090000
DTEND;TZID=America/Phoenix:20260609T093000
DTSTAMP:20260423T025604
CREATED:20260330T203218Z
LAST-MODIFIED:20260330T203218Z
UID:20026-1780995600-1780997400@sothaz.com
SUMMARY:Let the Word Speak: Weekly Prayer
DESCRIPTION:Join Pastor Jeff each Tuesday at 9:00 am for 30 minutes of quiet prayer\, hearing the word\, and allowing God to speak to us. This weekly prayer will be a practice of the prayer movements we learned in the Lectio course. We will meet in the Shepherd’s Prayer Room.
URL:https://sothaz.com/event/let-the-word-speak-weekly-prayer-33
LOCATION:Shepherd’s Prayer Room\, 16150 E. El Lago Blvd\, Fountain Hills\, AZ\, 85268\, United States
CATEGORIES:Other
ATTACH;FMTTYPE=image/png:https://sothaz.com/wp-content/uploads/2025/10/Weekly-Prayer-min.png
ORGANIZER;CN="Pastor Jeff Teeples":MAILTO:jeff@sothaz.com
END:VEVENT
BEGIN:VEVENT
DTSTART;TZID=America/Phoenix:20260607T104500
DTEND;TZID=America/Phoenix:20260607T113000
DTSTAMP:20260423T025604
CREATED:20260420T193205Z
LAST-MODIFIED:20260420T193205Z
UID:20161-1780829100-1780831800@sothaz.com
SUMMARY:Christ Connect Class: God's Compassion
DESCRIPTION:Series: The Jesus You Want to Know \nChristians know what Jesus Christ has done—but who is he? What is his deepest heart for his people\, weary and faltering on their journey toward heaven? Jesus said he is “gentle and lowly in heart.” This series reflects on these words\, opening up a neglected yet central truth about who Jesus is for sinners and sufferers today. \nApril 19 – Chapters 1 & 2\nApril 26 – Chapters 3-5\nMay 3 – Chapters 6 & 7\nMay 10 – Chapters 8 & 9\nMay 17 – Chapters 10-12\nMay 24 – Chapter 13\nMay 31 – Chapter 14\nJune 7 – Chapter 15 & 16\nJune 14 – Chapters 17 & 18\nJune 21 – Chapters 19-21\nJune 28 – Chapters 22 & 23
URL:https://sothaz.com/event/christ-connect-class-gods-compassion
LOCATION:Fellowship Hall\, 16150 East El Lago Blvd\, Fountain Hills\, AZ\, 85268\, United States
CATEGORIES:Adult Education,Lent/Easter
ORGANIZER;CN="Pastor Jeff Teeples":MAILTO:jeff@sothaz.com
END:VEVENT
BEGIN:VEVENT
DTSTART;TZID=America/Phoenix:20260607T093000
DTEND;TZID=America/Phoenix:20260607T103000
DTSTAMP:20260423T025604
CREATED:20260317T193629Z
LAST-MODIFIED:20260317T193629Z
UID:19918-1780824600-1780828200@sothaz.com
SUMMARY:Worship Service: God's Compassion
DESCRIPTION:In Person and Online Church Service in Fountain Hills.\nLivestream available on our Website\, Facebook\, and YouTube.\nMESSAGE – God’s Compassion\n\nSCRIPTURES\nLamentations 3:32-33\nExodus 33:18-34:7\nMatthew 20:1-16
URL:https://sothaz.com/event/worship-service-gods-compassion
LOCATION:Sanctuary\, 16150 East El Lago Blvd\, Fountain Hills\, AZ\, 85268\, United States
CATEGORIES:Worship Services
ORGANIZER;CN="Pastor Jeff Teeples":MAILTO:jeff@sothaz.com
END:VEVENT
BEGIN:VEVENT
DTSTART;TZID=America/Phoenix:20260602T090000
DTEND;TZID=America/Phoenix:20260602T093000
DTSTAMP:20260423T025604
CREATED:20260330T203127Z
LAST-MODIFIED:20260330T203127Z
UID:20027-1780390800-1780392600@sothaz.com
SUMMARY:Let the Word Speak: Weekly Prayer
DESCRIPTION:Join Pastor Jeff each Tuesday at 9:00 am for 30 minutes of quiet prayer\, hearing the word\, and allowing God to speak to us. This weekly prayer will be a practice of the prayer movements we learned in the Lectio course. We will meet in the Shepherd’s Prayer Room.
URL:https://sothaz.com/event/let-the-word-speak-weekly-prayer-32
LOCATION:Shepherd’s Prayer Room\, 16150 E. El Lago Blvd\, Fountain Hills\, AZ\, 85268\, United States
CATEGORIES:Other
ATTACH;FMTTYPE=image/png:https://sothaz.com/wp-content/uploads/2025/10/Weekly-Prayer-min.png
ORGANIZER;CN="Pastor Jeff Teeples":MAILTO:jeff@sothaz.com
END:VEVENT
BEGIN:VEVENT
DTSTART;TZID=America/Phoenix:20260531T104500
DTEND;TZID=America/Phoenix:20260531T113000
DTSTAMP:20260423T025604
CREATED:20260420T193121Z
LAST-MODIFIED:20260420T193121Z
UID:20162-1780224300-1780227000@sothaz.com
SUMMARY:Christ Connect Class: Our Great God
DESCRIPTION:Series: The Jesus You Want to Know \nChristians know what Jesus Christ has done—but who is he? What is his deepest heart for his people\, weary and faltering on their journey toward heaven? Jesus said he is “gentle and lowly in heart.” This series reflects on these words\, opening up a neglected yet central truth about who Jesus is for sinners and sufferers today. \nApril 19 – Chapters 1 & 2\nApril 26 – Chapters 3-5\nMay 3 – Chapters 6 & 7\nMay 10 – Chapters 8 & 9\nMay 17 – Chapters 10-12\nMay 24 – Chapter 13\nMay 31 – Chapter 14\nJune 7 – Chapter 15 & 16\nJune 14 – Chapters 17 & 18\nJune 21 – Chapters 19-21\nJune 28 – Chapters 22 & 23
URL:https://sothaz.com/event/christ-connect-class-our-great-god
LOCATION:Fellowship Hall\, 16150 East El Lago Blvd\, Fountain Hills\, AZ\, 85268\, United States
CATEGORIES:Adult Education,Lent/Easter
ORGANIZER;CN="Pastor Jeff Teeples":MAILTO:jeff@sothaz.com
END:VEVENT
BEGIN:VEVENT
DTSTART;TZID=America/Phoenix:20260531T093000
DTEND;TZID=America/Phoenix:20260531T103000
DTSTAMP:20260423T025604
CREATED:20260317T193459Z
LAST-MODIFIED:20260317T193459Z
UID:19916-1780219800-1780223400@sothaz.com
SUMMARY:Worship Service: Our Great God
DESCRIPTION:In Person and Online Church Service in Fountain Hills.\nLivestream available on our Website\, Facebook\, and YouTube.\nMESSAGE – Our Great God\n\nSCRIPTURES\nPsalm 8\nRomans 11:33-36\nMatthew 28:16-20
URL:https://sothaz.com/event/worship-service-our-great-god
LOCATION:Sanctuary\, 16150 East El Lago Blvd\, Fountain Hills\, AZ\, 85268\, United States
CATEGORIES:Worship Services
ORGANIZER;CN="Pastor Jeff Teeples":MAILTO:jeff@sothaz.com
END:VEVENT
BEGIN:VEVENT
DTSTART;VALUE=DATE:20260531
DTEND;VALUE=DATE:20260601
DTSTAMP:20260423T025604
CREATED:20260317T193249Z
LAST-MODIFIED:20260317T193249Z
UID:19912-1780185600-1780271999@sothaz.com
SUMMARY:Holy Trinity Sunday
DESCRIPTION:
URL:https://sothaz.com/event/holy-trinity-sunday
LOCATION:AZ
CATEGORIES:Worship Services
END:VEVENT
BEGIN:VEVENT
DTSTART;VALUE=DATE:20260529
DTEND;VALUE=DATE:20260530
DTSTAMP:20260423T025604
CREATED:20251231T001652Z
LAST-MODIFIED:20251231T001652Z
UID:19009-1780012800-1780099199@sothaz.com
SUMMARY:Church Office Closed
DESCRIPTION:
URL:https://sothaz.com/event/church-office-closed-64
LOCATION:AZ
CATEGORIES:Other
END:VEVENT
BEGIN:VEVENT
DTSTART;TZID=America/Phoenix:20260527T064500
DTEND;TZID=America/Phoenix:20260527T074500
DTSTAMP:20260423T025604
CREATED:20260330T201616Z
LAST-MODIFIED:20260330T201616Z
UID:20014-1779864300-1779867900@sothaz.com
SUMMARY:Walk in the Word Walking Group
DESCRIPTION:Walk\, Pray\, and Connect Together\nSonja Almlie hosts a walking group on Wednesday mornings. \nWe’ll meet every Wednesday at 6:45 AM at Fountain Park\, under the pavilion next to the splash pond. Together we’ll begin with a short Bible verse and prayer\, then walk one or two laps around the pond. \nMen and women are welcome — and feel free to bring a neighbor or friend! \nThis is a wonderful way to start your day with fellowship\, fresh air\, and encouragement in God’s Word.
URL:https://sothaz.com/event/walk-in-the-word-walking-group-37
LOCATION:Fountain Park\, 12925 N Saguaro Blvd\, Fountain Hills\, AZ\, 85268\, United States
CATEGORIES:Other
ATTACH;FMTTYPE=image/png:https://sothaz.com/wp-content/uploads/2025/12/Walking-Group-Calendar-min.png
ORGANIZER;CN="Sonja Almlie":MAILTO:sonja@sothaz.com
END:VEVENT
BEGIN:VEVENT
DTSTART;TZID=America/Phoenix:20260526T090000
DTEND;TZID=America/Phoenix:20260526T093000
DTSTAMP:20260423T025604
CREATED:20251231T002844Z
LAST-MODIFIED:20251231T002844Z
UID:19011-1779786000-1779787800@sothaz.com
SUMMARY:Let the Word Speak: Weekly Prayer
DESCRIPTION:Join Pastor Jeff each Tuesday at 9:00 am for 30 minutes of quiet prayer\, hearing the word\, and allowing God to speak to us. This weekly prayer will be a practice of the prayer movements we learned in the Lectio course. We will meet in the Shepherd’s Prayer Room.
URL:https://sothaz.com/event/let-the-word-speak-weekly-prayer-31
LOCATION:Shepherd’s Prayer Room\, 16150 E. El Lago Blvd\, Fountain Hills\, AZ\, 85268\, United States
CATEGORIES:Other
ATTACH;FMTTYPE=image/png:https://sothaz.com/wp-content/uploads/2025/10/Weekly-Prayer-min.png
ORGANIZER;CN="Pastor Jeff Teeples":MAILTO:jeff@sothaz.com
END:VEVENT
BEGIN:VEVENT
DTSTART;TZID=America/Phoenix:20260524T104500
DTEND;TZID=America/Phoenix:20260524T113000
DTSTAMP:20260423T025604
CREATED:20260420T192816Z
LAST-MODIFIED:20260420T192816Z
UID:20152-1779619500-1779622200@sothaz.com
SUMMARY:Christ Connect Class: The Spirit of Gentleness and Power
DESCRIPTION:Series: The Jesus You Want to Know \nChristians know what Jesus Christ has done—but who is he? What is his deepest heart for his people\, weary and faltering on their journey toward heaven? Jesus said he is “gentle and lowly in heart.” This series reflects on these words\, opening up a neglected yet central truth about who Jesus is for sinners and sufferers today. \nApril 19 – Chapters 1 & 2\nApril 26 – Chapters 3-5\nMay 3 – Chapters 6 & 7\nMay 10 – Chapters 8 & 9\nMay 17 – Chapters 10-12\nMay 24 – Chapter 13\nMay 31 – Chapter 14\nJune 7 – Chapter 15 & 16\nJune 14 – Chapters 17 & 18\nJune 21 – Chapters 19-21\nJune 28 – Chapters 22 & 23
URL:https://sothaz.com/event/christ-connect-class-the-spirit-of-gentleness-and-power
LOCATION:Fellowship Hall\, 16150 East El Lago Blvd\, Fountain Hills\, AZ\, 85268\, United States
CATEGORIES:Adult Education,Lent/Easter
ORGANIZER;CN="Pastor Jeff Teeples":MAILTO:jeff@sothaz.com
END:VEVENT
BEGIN:VEVENT
DTSTART;TZID=America/Phoenix:20260524T093000
DTEND;TZID=America/Phoenix:20260524T103000
DTSTAMP:20260423T025604
CREATED:20260317T193142Z
LAST-MODIFIED:20260317T193142Z
UID:19908-1779615000-1779618600@sothaz.com
SUMMARY:Worship Service: The Spirit of Gentleness and Power
DESCRIPTION:In Person and Online Church Service in Fountain Hills.\nLivestream available on our Website\, Facebook\, and YouTube.\nMESSAGE – The Spirit of Gentleness and Power\n\nSCRIPTURES\nGenesis 11:1-9\nActs 2:1-21\nJohn 15:26-27
URL:https://sothaz.com/event/worship-service-the-spirit-of-gentleness-and-power
LOCATION:Sanctuary\, 16150 East El Lago Blvd\, Fountain Hills\, AZ\, 85268\, United States
CATEGORIES:Worship Services
ORGANIZER;CN="Pastor Jeff Teeples":MAILTO:jeff@sothaz.com
END:VEVENT
BEGIN:VEVENT
DTSTART;VALUE=DATE:20260524
DTEND;VALUE=DATE:20260525
DTSTAMP:20260423T025604
CREATED:20260317T193214Z
LAST-MODIFIED:20260317T193214Z
UID:19910-1779580800-1779667199@sothaz.com
SUMMARY:Pentecost Sunday
DESCRIPTION:
URL:https://sothaz.com/event/pentecost-sunday
LOCATION:AZ
CATEGORIES:Worship Services
END:VEVENT
BEGIN:VEVENT
DTSTART;VALUE=DATE:20260522
DTEND;VALUE=DATE:20260523
DTSTAMP:20260423T025604
CREATED:20251231T001556Z
LAST-MODIFIED:20251231T001556Z
UID:19007-1779408000-1779494399@sothaz.com
SUMMARY:Church Office Closed
DESCRIPTION:
URL:https://sothaz.com/event/church-office-closed-63
LOCATION:AZ
CATEGORIES:Other
END:VEVENT
BEGIN:VEVENT
DTSTART;TZID=America/Phoenix:20260520T064500
DTEND;TZID=America/Phoenix:20260520T074500
DTSTAMP:20260423T025604
CREATED:20260330T201536Z
LAST-MODIFIED:20260330T201537Z
UID:20015-1779259500-1779263100@sothaz.com
SUMMARY:Walk in the Word Walking Group
DESCRIPTION:Walk\, Pray\, and Connect Together\nSonja Almlie hosts a walking group on Wednesday mornings. \nWe’ll meet every Wednesday at 6:45 AM at Fountain Park\, under the pavilion next to the splash pond. Together we’ll begin with a short Bible verse and prayer\, then walk one or two laps around the pond. \nMen and women are welcome — and feel free to bring a neighbor or friend! \nThis is a wonderful way to start your day with fellowship\, fresh air\, and encouragement in God’s Word.
URL:https://sothaz.com/event/walk-in-the-word-walking-group-36
LOCATION:Fountain Park\, 12925 N Saguaro Blvd\, Fountain Hills\, AZ\, 85268\, United States
CATEGORIES:Other
ATTACH;FMTTYPE=image/png:https://sothaz.com/wp-content/uploads/2025/12/Walking-Group-Calendar-min.png
ORGANIZER;CN="Sonja Almlie":MAILTO:sonja@sothaz.com
END:VEVENT
BEGIN:VEVENT
DTSTART;TZID=America/Phoenix:20260519T090000
DTEND;TZID=America/Phoenix:20260519T093000
DTSTAMP:20260423T025604
CREATED:20251231T002803Z
LAST-MODIFIED:20251231T002803Z
UID:19012-1779181200-1779183000@sothaz.com
SUMMARY:Let the Word Speak: Weekly Prayer
DESCRIPTION:Join Pastor Jeff each Tuesday at 9:00 am for 30 minutes of quiet prayer\, hearing the word\, and allowing God to speak to us. This weekly prayer will be a practice of the prayer movements we learned in the Lectio course. We will meet in the Shepherd’s Prayer Room.
URL:https://sothaz.com/event/let-the-word-speak-weekly-prayer-30
LOCATION:Shepherd’s Prayer Room\, 16150 E. El Lago Blvd\, Fountain Hills\, AZ\, 85268\, United States
CATEGORIES:Other
ATTACH;FMTTYPE=image/png:https://sothaz.com/wp-content/uploads/2025/10/Weekly-Prayer-min.png
ORGANIZER;CN="Pastor Jeff Teeples":MAILTO:jeff@sothaz.com
END:VEVENT
END:VCALENDAR