BEGIN:VCALENDAR
VERSION:2.0
PRODID:-//Shepherd of the Hills - ECPv6.15.18//NONSGML v1.0//EN
CALSCALE:GREGORIAN
METHOD:PUBLISH
X-ORIGINAL-URL:https://sothaz.com
X-WR-CALDESC:Events for Shepherd of the Hills
REFRESH-INTERVAL;VALUE=DURATION:PT1H
X-Robots-Tag:noindex
X-PUBLISHED-TTL:PT1H
BEGIN:VTIMEZONE
TZID:America/Phoenix
BEGIN:STANDARD
TZOFFSETFROM:-0700
TZOFFSETTO:-0700
TZNAME:MST
DTSTART:20250101T000000
END:STANDARD
END:VTIMEZONE
BEGIN:VEVENT
DTSTART;TZID=America/Phoenix:20260614T104500
DTEND;TZID=America/Phoenix:20260614T113000
DTSTAMP:20260422T045543
CREATED:20260420T193255Z
LAST-MODIFIED:20260420T193255Z
UID:20160-1781433900-1781436600@sothaz.com
SUMMARY:Christ Connect Class: God's Heart
DESCRIPTION:Series: The Jesus You Want to Know \nChristians know what Jesus Christ has done—but who is he? What is his deepest heart for his people\, weary and faltering on their journey toward heaven? Jesus said he is “gentle and lowly in heart.” This series reflects on these words\, opening up a neglected yet central truth about who Jesus is for sinners and sufferers today. \nApril 19 – Chapters 1 & 2\nApril 26 – Chapters 3-5\nMay 3 – Chapters 6 & 7\nMay 10 – Chapters 8 & 9\nMay 17 – Chapters 10-12\nMay 24 – Chapter 13\nMay 31 – Chapter 14\nJune 7 – Chapter 15 & 16\nJune 14 – Chapters 17 & 18\nJune 21 – Chapters 19-21\nJune 28 – Chapters 22 & 23
URL:https://sothaz.com/event/christ-connect-class-gods-heart
LOCATION:Fellowship Hall\, 16150 East El Lago Blvd\, Fountain Hills\, AZ\, 85268\, United States
CATEGORIES:Adult Education,Lent/Easter
ORGANIZER;CN="Pastor Jeff Teeples":MAILTO:jeff@sothaz.com
END:VEVENT
BEGIN:VEVENT
DTSTART;TZID=America/Phoenix:20260616T090000
DTEND;TZID=America/Phoenix:20260616T093000
DTSTAMP:20260422T045543
CREATED:20260330T203302Z
LAST-MODIFIED:20260330T203302Z
UID:20025-1781600400-1781602200@sothaz.com
SUMMARY:Let the Word Speak: Weekly Prayer
DESCRIPTION:Join Pastor Jeff each Tuesday at 9:00 am for 30 minutes of quiet prayer\, hearing the word\, and allowing God to speak to us. This weekly prayer will be a practice of the prayer movements we learned in the Lectio course. We will meet in the Shepherd’s Prayer Room.
URL:https://sothaz.com/event/let-the-word-speak-weekly-prayer-34
LOCATION:Shepherd’s Prayer Room\, 16150 E. El Lago Blvd\, Fountain Hills\, AZ\, 85268\, United States
CATEGORIES:Other
ATTACH;FMTTYPE=image/png:https://sothaz.com/wp-content/uploads/2025/10/Weekly-Prayer-min.png
ORGANIZER;CN="Pastor Jeff Teeples":MAILTO:jeff@sothaz.com
END:VEVENT
BEGIN:VEVENT
DTSTART;TZID=America/Phoenix:20260621T093000
DTEND;TZID=America/Phoenix:20260621T103000
DTSTAMP:20260422T045543
CREATED:20260317T193855Z
LAST-MODIFIED:20260317T193855Z
UID:19922-1782034200-1782037800@sothaz.com
SUMMARY:Worship Service: The Love of God
DESCRIPTION:In Person and Online Church Service in Fountain Hills.\nLivestream available on our Website\, Facebook\, and YouTube.\nMESSAGE – The Love of God\n\nSCRIPTURES\nPsalm 32\nGalatians 2:20-21\nLuke 7:36-50
URL:https://sothaz.com/event/worship-service-the-love-of-god
LOCATION:Sanctuary\, 16150 East El Lago Blvd\, Fountain Hills\, AZ\, 85268\, United States
CATEGORIES:Worship Services
ORGANIZER;CN="Pastor Jeff Teeples":MAILTO:jeff@sothaz.com
END:VEVENT
BEGIN:VEVENT
DTSTART;TZID=America/Phoenix:20260621T104500
DTEND;TZID=America/Phoenix:20260621T113000
DTSTAMP:20260422T045543
CREATED:20260420T193423Z
LAST-MODIFIED:20260420T193423Z
UID:20159-1782038700-1782041400@sothaz.com
SUMMARY:Christ Connect Class: The Love of God
DESCRIPTION:Series: The Jesus You Want to Know \nChristians know what Jesus Christ has done—but who is he? What is his deepest heart for his people\, weary and faltering on their journey toward heaven? Jesus said he is “gentle and lowly in heart.” This series reflects on these words\, opening up a neglected yet central truth about who Jesus is for sinners and sufferers today. \nApril 19 – Chapters 1 & 2\nApril 26 – Chapters 3-5\nMay 3 – Chapters 6 & 7\nMay 10 – Chapters 8 & 9\nMay 17 – Chapters 10-12\nMay 24 – Chapter 13\nMay 31 – Chapter 14\nJune 7 – Chapter 15 & 16\nJune 14 – Chapters 17 & 18\nJune 21 – Chapters 19-21\nJune 28 – Chapters 22 & 23
URL:https://sothaz.com/event/christ-connect-class-the-love-of-god
LOCATION:Fellowship Hall\, 16150 East El Lago Blvd\, Fountain Hills\, AZ\, 85268\, United States
CATEGORIES:Adult Education,Lent/Easter
ORGANIZER;CN="Pastor Jeff Teeples":MAILTO:jeff@sothaz.com
END:VEVENT
BEGIN:VEVENT
DTSTART;TZID=America/Phoenix:20260623T090000
DTEND;TZID=America/Phoenix:20260623T093000
DTSTAMP:20260422T045543
CREATED:20260330T203435Z
LAST-MODIFIED:20260330T203435Z
UID:20024-1782205200-1782207000@sothaz.com
SUMMARY:Let the Word Speak: Weekly Prayer
DESCRIPTION:Join Pastor Jeff each Tuesday at 9:00 am for 30 minutes of quiet prayer\, hearing the word\, and allowing God to speak to us. This weekly prayer will be a practice of the prayer movements we learned in the Lectio course. We will meet in the Shepherd’s Prayer Room.
URL:https://sothaz.com/event/let-the-word-speak-weekly-prayer-35
LOCATION:Shepherd’s Prayer Room\, 16150 E. El Lago Blvd\, Fountain Hills\, AZ\, 85268\, United States
CATEGORIES:Other
ATTACH;FMTTYPE=image/png:https://sothaz.com/wp-content/uploads/2025/10/Weekly-Prayer-min.png
ORGANIZER;CN="Pastor Jeff Teeples":MAILTO:jeff@sothaz.com
END:VEVENT
BEGIN:VEVENT
DTSTART;TZID=America/Phoenix:20260628T093000
DTEND;TZID=America/Phoenix:20260628T103000
DTSTAMP:20260422T045543
CREATED:20260317T194013Z
LAST-MODIFIED:20260317T194013Z
UID:19924-1782639000-1782642600@sothaz.com
SUMMARY:Worship Service: Jesus Our Lord and Friend
DESCRIPTION:In Person and Online Church Service in Fountain Hills.\nLivestream available on our Website\, Facebook\, and YouTube.\nMESSAGE – Jesus Our Lord and Friend\n\nSCRIPTURES\nEzekiel 2:8-3:3\nEphesians 2:4-10\nJohn 13:1-17
URL:https://sothaz.com/event/worship-service-jesus-our-lord-and-friend
LOCATION:Sanctuary\, 16150 East El Lago Blvd\, Fountain Hills\, AZ\, 85268\, United States
CATEGORIES:Worship Services
ORGANIZER;CN="Pastor Jeff Teeples":MAILTO:jeff@sothaz.com
END:VEVENT
BEGIN:VEVENT
DTSTART;TZID=America/Phoenix:20260628T104500
DTEND;TZID=America/Phoenix:20260628T113000
DTSTAMP:20260422T045543
CREATED:20260420T193519Z
LAST-MODIFIED:20260420T193519Z
UID:20151-1782643500-1782646200@sothaz.com
SUMMARY:Christ Connect Class: Jesus Our Lord and Friend
DESCRIPTION:Series: The Jesus You Want to Know \nChristians know what Jesus Christ has done—but who is he? What is his deepest heart for his people\, weary and faltering on their journey toward heaven? Jesus said he is “gentle and lowly in heart.” This series reflects on these words\, opening up a neglected yet central truth about who Jesus is for sinners and sufferers today. \nApril 19 – Chapters 1 & 2\nApril 26 – Chapters 3-5\nMay 3 – Chapters 6 & 7\nMay 10 – Chapters 8 & 9\nMay 17 – Chapters 10-12\nMay 24 – Chapter 13\nMay 31 – Chapter 14\nJune 7 – Chapter 15 & 16\nJune 14 – Chapters 17 & 18\nJune 21 – Chapters 19-21\nJune 28 – Chapters 22 & 23
URL:https://sothaz.com/event/christ-connect-class-jesus-our-lord-and-friend
LOCATION:Fellowship Hall\, 16150 East El Lago Blvd\, Fountain Hills\, AZ\, 85268\, United States
CATEGORIES:Adult Education,Lent/Easter
ORGANIZER;CN="Pastor Jeff Teeples":MAILTO:jeff@sothaz.com
END:VEVENT
BEGIN:VEVENT
DTSTART;TZID=America/Phoenix:20260630T090000
DTEND;TZID=America/Phoenix:20260630T093000
DTSTAMP:20260422T045543
CREATED:20260330T203527Z
LAST-MODIFIED:20260330T203527Z
UID:20023-1782810000-1782811800@sothaz.com
SUMMARY:Let the Word Speak: Weekly Prayer
DESCRIPTION:Join Pastor Jeff each Tuesday at 9:00 am for 30 minutes of quiet prayer\, hearing the word\, and allowing God to speak to us. This weekly prayer will be a practice of the prayer movements we learned in the Lectio course. We will meet in the Shepherd’s Prayer Room.
URL:https://sothaz.com/event/let-the-word-speak-weekly-prayer-36
LOCATION:Shepherd’s Prayer Room\, 16150 E. El Lago Blvd\, Fountain Hills\, AZ\, 85268\, United States
CATEGORIES:Other
ATTACH;FMTTYPE=image/png:https://sothaz.com/wp-content/uploads/2025/10/Weekly-Prayer-min.png
ORGANIZER;CN="Pastor Jeff Teeples":MAILTO:jeff@sothaz.com
END:VEVENT
BEGIN:VEVENT
DTSTART;VALUE=DATE:20260704
DTEND;VALUE=DATE:20260705
DTSTAMP:20260422T045543
CREATED:20260317T222203Z
LAST-MODIFIED:20260317T222203Z
UID:19930-1783123200-1783209599@sothaz.com
SUMMARY:Semiquincentennial: 250th Celebration of America
DESCRIPTION:250th anniversary of the signing of the Declaration of Independence
URL:https://sothaz.com/event/semiquincentennial-250th-celebration-of-america
LOCATION:AZ
CATEGORIES:Other
END:VEVENT
BEGIN:VEVENT
DTSTART;TZID=America/Phoenix:20260705T093000
DTEND;TZID=America/Phoenix:20260705T103000
DTSTAMP:20260422T045543
CREATED:20260317T221952Z
LAST-MODIFIED:20260317T221952Z
UID:19926-1783243800-1783247400@sothaz.com
SUMMARY:Worship Service: Our Endowed Unalienable  Rights
DESCRIPTION:In Person and Online Church Service in Fountain Hills.\nLivestream available on our Website\, Facebook\, and YouTube.\nMESSAGE – Our Endowed Unalienable  Rights\n\nSCRIPTURES\nJeremiah 29:4-14\nRomans 13:1-10\nMatthew 6:9-13
URL:https://sothaz.com/event/worship-service-our-endowed-unalienable-rights
LOCATION:Sanctuary\, 16150 East El Lago Blvd\, Fountain Hills\, AZ\, 85268\, United States
CATEGORIES:Worship Services
ORGANIZER;CN="Pastor Jeff Teeples":MAILTO:jeff@sothaz.com
END:VEVENT
BEGIN:VEVENT
DTSTART;TZID=America/Phoenix:20260705T104500
DTEND;TZID=America/Phoenix:20260705T113000
DTSTAMP:20260422T045543
CREATED:20260317T222053Z
LAST-MODIFIED:20260317T222053Z
UID:19928-1783248300-1783251000@sothaz.com
SUMMARY:No Christ Connect Class: Midsummer Break
DESCRIPTION:
URL:https://sothaz.com/event/no-christ-connect-class-midsummer-break
LOCATION:AZ
CATEGORIES:Adult Education
END:VEVENT
BEGIN:VEVENT
DTSTART;TZID=America/Phoenix:20260709T130000
DTEND;TZID=America/Phoenix:20260709T150000
DTSTAMP:20260422T045543
CREATED:20251119T215705Z
LAST-MODIFIED:20251119T215705Z
UID:18563-1783602000-1783609200@sothaz.com
SUMMARY:LiFT: Bingo Event
DESCRIPTION:
URL:https://sothaz.com/event/lift-bingo-event
LOCATION:Fellowship Hall\, 16150 East El Lago Blvd\, Fountain Hills\, AZ\, 85268\, United States
END:VEVENT
BEGIN:VEVENT
DTSTART;TZID=America/Phoenix:20260906T104500
DTEND;TZID=America/Phoenix:20260906T113000
DTSTAMP:20260422T045543
CREATED:20260317T222347Z
LAST-MODIFIED:20260317T222347Z
UID:19934-1788691500-1788694200@sothaz.com
SUMMARY:No Christ Connect Class: Labor Day Weekend
DESCRIPTION:
URL:https://sothaz.com/event/no-christ-connect-class-labor-day-weekend
LOCATION:AZ
CATEGORIES:Adult Education
END:VEVENT
BEGIN:VEVENT
DTSTART;VALUE=DATE:20260907
DTEND;VALUE=DATE:20260908
DTSTAMP:20260422T045543
CREATED:20260317T222252Z
LAST-MODIFIED:20260317T222252Z
UID:19932-1788739200-1788825599@sothaz.com
SUMMARY:Labor Day
DESCRIPTION:
URL:https://sothaz.com/event/labor-day
LOCATION:AZ
CATEGORIES:Other
END:VEVENT
BEGIN:VEVENT
DTSTART;VALUE=DATE:20261025
DTEND;VALUE=DATE:20261026
DTSTAMP:20260422T045543
CREATED:20260317T222428Z
LAST-MODIFIED:20260317T222428Z
UID:19936-1792886400-1792972799@sothaz.com
SUMMARY:Reformation Sunday
DESCRIPTION:
URL:https://sothaz.com/event/reformation-sunday
LOCATION:AZ
CATEGORIES:Other
END:VEVENT
BEGIN:VEVENT
DTSTART;VALUE=DATE:20261101
DTEND;VALUE=DATE:20261102
DTSTAMP:20260422T045543
CREATED:20260317T222505Z
LAST-MODIFIED:20260317T222505Z
UID:19938-1793491200-1793577599@sothaz.com
SUMMARY:All Saints Sunday
DESCRIPTION:
URL:https://sothaz.com/event/all-saints-sunday
LOCATION:AZ
CATEGORIES:Other
END:VEVENT
BEGIN:VEVENT
DTSTART;VALUE=DATE:20261122
DTEND;VALUE=DATE:20261123
DTSTAMP:20260422T045543
CREATED:20260317T222541Z
LAST-MODIFIED:20260317T222541Z
UID:19940-1795305600-1795391999@sothaz.com
SUMMARY:Christ the King Sunday
DESCRIPTION:
URL:https://sothaz.com/event/christ-the-king-sunday
LOCATION:AZ
CATEGORIES:Other
END:VEVENT
BEGIN:VEVENT
DTSTART;VALUE=DATE:20261206
DTEND;VALUE=DATE:20261207
DTSTAMP:20260422T045543
CREATED:20260312T022824Z
LAST-MODIFIED:20260312T023728Z
UID:19793-1796515200-1796601599@sothaz.com
SUMMARY:Live Nativity
DESCRIPTION:More information coming soon.
URL:https://sothaz.com/event/live-nativity
LOCATION:SOTH Lawn\, 16150 E. El Lago Blvd\, Fountain Hills\, AZ\, 85268\, United States
ORGANIZER;CN="Debbie Vinopal":MAILTO:debbie@sothaz.com
END:VEVENT
END:VCALENDAR